BEGIN:VCALENDAR
VERSION:2.0
PRODID:-//Plone.org//NONSGML plone.app.event//EN
X-WR-TIMEZONE:Europe/Madrid
BEGIN:VEVENT
SUMMARY:Cinema alternatiu: "Un toque de canela"
DTSTART;TZID=Europe/Madrid;VALUE=DATE-TIME:20050225T220000
DTEND;TZID=Europe/Madrid;VALUE=DATE-TIME:20050225T230000
DTSTAMP;VALUE=DATE-TIME:20260421T141252Z
UID:d668307ee2950f3c0b8cb69c646ec5e3
CREATED;VALUE=DATE-TIME:20050225T000000Z
URL:https://www.canetdemar.cat/document.php?id=1376
END:VEVENT
END:VCALENDAR