BEGIN:VCALENDAR
VERSION:2.0
PRODID:-//Plone.org//NONSGML plone.app.event//EN
X-WR-TIMEZONE:Europe/Madrid
BEGIN:VEVENT
SUMMARY:El documental del mes: La casa de la morera
DTSTART;TZID=Europe/Madrid;VALUE=DATE-TIME:20151030T213000
DTEND;TZID=Europe/Madrid;VALUE=DATE-TIME:20151030T223000
DTSTAMP;VALUE=DATE-TIME:20260424T040736Z
UID:22ea43879f3733cfc3bc67e1100d18d9
CREATED;VALUE=DATE-TIME:20151030T000000Z
LOCATION:Centre parroquial
ORGANIZER:Associació Cultural Plataforma Odèon - ACPO
URL:https://www.canetdemar.cat/document.php?id=13735
END:VEVENT
END:VCALENDAR