BEGIN:VCALENDAR
VERSION:2.0
PRODID:-//Plone.org//NONSGML plone.app.event//EN
X-WR-TIMEZONE:Europe/Madrid
BEGIN:VEVENT
SUMMARY:Ruta guiada: Modernisme de Canet i Casa museu
DTSTART;TZID=Europe/Madrid;VALUE=DATE-TIME:20151003T110000
DTEND;TZID=Europe/Madrid;VALUE=DATE-TIME:20151003T120000
DTSTAMP;VALUE=DATE-TIME:20260423T051459Z
UID:9d95ed1b750f76440188a1b59e117d7e
CREATED;VALUE=DATE-TIME:20151003T000000Z
LOCATION:Casa museu Lluís Domènech i Montaner
ORGANIZER:Casa museu Lluís Domènech i Montaner
COMMENT:Preu: 7 euros
URL:https://www.canetdemar.cat/document.php?id=13712
END:VEVENT
END:VCALENDAR