BEGIN:VCALENDAR
VERSION:2.0
PRODID:-//Plone.org//NONSGML plone.app.event//EN
X-WR-TIMEZONE:Europe/Madrid
BEGIN:VEVENT
SUMMARY:Lliurament de premis del XII certamen de Poesia
DTSTART;TZID=Europe/Madrid;VALUE=DATE-TIME:20151025T120000
DTEND;TZID=Europe/Madrid;VALUE=DATE-TIME:20151025T130000
DTSTAMP;VALUE=DATE-TIME:20260426T032554Z
UID:9ce6dae64b375789cbd473bd98a6e4bd
CREATED;VALUE=DATE-TIME:20151025T000000Z
CATEGORIES:Literatura
LOCATION:Seu de Sàlvia, Plaça Manén
ORGANIZER:Sàlvia
COMMENT:Preu: gratuït
URL:https://www.canetdemar.cat/document.php?id=13706
END:VEVENT
END:VCALENDAR