BEGIN:VCALENDAR
VERSION:2.0
PRODID:-//Plone.org//NONSGML plone.app.event//EN
X-WR-TIMEZONE:Europe/Madrid
BEGIN:VEVENT
SUMMARY:Caga Tió
DTSTART;TZID=Europe/Madrid;VALUE=DATE-TIME:20021224T170000
DTEND;TZID=Europe/Madrid;VALUE=DATE-TIME:20021224T180000
DTSTAMP;VALUE=DATE-TIME:20260425T004110Z
UID:e45d8c7a8afa9fd6e11536ca3b2477b7
CREATED;VALUE=DATE-TIME:20021224T000000Z
URL:https://www.canetdemar.cat/document.php?id=137
END:VEVENT
END:VCALENDAR