BEGIN:VCALENDAR
VERSION:2.0
PRODID:-//Plone.org//NONSGML plone.app.event//EN
X-WR-TIMEZONE:Europe/Madrid
BEGIN:VEVENT
SUMMARY:Curset de balls de saló
DTSTART;TZID=Europe/Madrid;VALUE=DATE-TIME:20150917T203000
DTEND;TZID=Europe/Madrid;VALUE=DATE-TIME:20150917T213000
DTSTAMP;VALUE=DATE-TIME:20260423T103103Z
UID:b500136915719236459981b1189fe9e2
CREATED;VALUE=DATE-TIME:20150917T000000Z
LOCATION:Envelat de Vil·la Flora
ORGANIZER:amcis del ball
COMMENT:Preu: per trimestre: 75 euros/persona
URL:https://www.canetdemar.cat/document.php?id=13694
END:VEVENT
END:VCALENDAR