BEGIN:VCALENDAR
VERSION:2.0
PRODID:-//Plone.org//NONSGML plone.app.event//EN
X-WR-TIMEZONE:Europe/Madrid
BEGIN:VEVENT
SUMMARY:Partits familiars a favor del tsunami
DTSTART;TZID=Europe/Madrid;VALUE=DATE-TIME:20050227T170000
DTEND;TZID=Europe/Madrid;VALUE=DATE-TIME:20050227T180000
DTSTAMP;VALUE=DATE-TIME:20260425T205008Z
UID:8eaecc7469feb942fabbc81bac66d22c
CREATED;VALUE=DATE-TIME:20050227T000000Z
URL:https://www.canetdemar.cat/document.php?id=1369
END:VEVENT
END:VCALENDAR