BEGIN:VCALENDAR
VERSION:2.0
PRODID:-//Plone.org//NONSGML plone.app.event//EN
X-WR-TIMEZONE:Europe/Madrid
BEGIN:VEVENT
SUMMARY:Partits familiars de futbol a favor del tsunami
DTSTART;TZID=Europe/Madrid;VALUE=DATE-TIME:20050220T170000
DTEND;TZID=Europe/Madrid;VALUE=DATE-TIME:20050220T180000
DTSTAMP;VALUE=DATE-TIME:20260422T125814Z
UID:766893260f3fa6563e200d7c57714d4b
CREATED;VALUE=DATE-TIME:20050220T000000Z
URL:https://www.canetdemar.cat/document.php?id=1368
END:VEVENT
END:VCALENDAR