BEGIN:VCALENDAR
VERSION:2.0
PRODID:-//Plone.org//NONSGML plone.app.event//EN
X-WR-TIMEZONE:Europe/Madrid
BEGIN:VEVENT
SUMMARY:Descoberta dels rials de Canet: Rial del Sot de l'Aubó
DTSTART;TZID=Europe/Madrid;VALUE=DATE-TIME:20050220T100000
DTEND;TZID=Europe/Madrid;VALUE=DATE-TIME:20050220T110000
DTSTAMP;VALUE=DATE-TIME:20260423T000212Z
UID:1bc26abe9fe5a77d5838798874b6e40a
CREATED;VALUE=DATE-TIME:20050220T000000Z
URL:https://www.canetdemar.cat/document.php?id=1366
END:VEVENT
END:VCALENDAR