BEGIN:VCALENDAR
VERSION:2.0
PRODID:-//Plone.org//NONSGML plone.app.event//EN
X-WR-TIMEZONE:Europe/Madrid
BEGIN:VEVENT
SUMMARY:Xerrada-debat: El català al nou Estat
DTSTART;TZID=Europe/Madrid;VALUE=DATE-TIME:20151023T193000
DTEND;TZID=Europe/Madrid;VALUE=DATE-TIME:20151023T203000
DTSTAMP;VALUE=DATE-TIME:20260424T071809Z
UID:30520920231935498809bf63e570faf0
CREATED;VALUE=DATE-TIME:20151023T000000Z
CATEGORIES:Conferència
LOCATION:Sala Cultural Ramon de Capmany
ORGANIZER:Plataforma per la Llengua Canet de Mar - l´ONG del català
COMMENT:Preu: Gratuït
DESCRIPTION:Cloenda del Correllengua 2015
URL:https://www.canetdemar.cat/document.php?id=13642
END:VEVENT
END:VCALENDAR