BEGIN:VCALENDAR
VERSION:2.0
PRODID:-//Plone.org//NONSGML plone.app.event//EN
X-WR-TIMEZONE:Europe/Madrid
BEGIN:VEVENT
SUMMARY:Cinema  per Gaudi(r) a la fresca: La Isla mínima
DTSTART;TZID=Europe/Madrid;VALUE=DATE-TIME:20150828T220000
DTEND;TZID=Europe/Madrid;VALUE=DATE-TIME:20150828T230000
DTSTAMP;VALUE=DATE-TIME:20260426T031634Z
UID:9a9b091b2bdb410950707b6b34d394ee
CREATED;VALUE=DATE-TIME:20150828T000000Z
LOCATION:Plaça Universitat
ORGANIZER:Associació Cultural Plataforma Odèon - ACPO
URL:https://www.canetdemar.cat/document.php?id=13554
END:VEVENT
END:VCALENDAR