BEGIN:VCALENDAR
VERSION:2.0
PRODID:-//Plone.org//NONSGML plone.app.event//EN
X-WR-TIMEZONE:Europe/Madrid
BEGIN:VEVENT
SUMMARY:Ball a l'envelat
DTSTART;TZID=Europe/Madrid;VALUE=DATE-TIME:20050227T190000
DTEND;TZID=Europe/Madrid;VALUE=DATE-TIME:20050227T200000
DTSTAMP;VALUE=DATE-TIME:20260424T142844Z
UID:e7d1f07891c703c728d23842ad4c38e2
CREATED;VALUE=DATE-TIME:20050227T000000Z
URL:https://www.canetdemar.cat/document.php?id=1352
END:VEVENT
END:VCALENDAR