BEGIN:VCALENDAR
VERSION:2.0
PRODID:-//Plone.org//NONSGML plone.app.event//EN
X-WR-TIMEZONE:Europe/Madrid
BEGIN:VEVENT
SUMMARY:Ball a l'envelat
DTSTART;TZID=Europe/Madrid;VALUE=DATE-TIME:20050213T190000
DTEND;TZID=Europe/Madrid;VALUE=DATE-TIME:20050213T200000
DTSTAMP;VALUE=DATE-TIME:20260424T152532Z
UID:0b182123d58555a36839179d867b7335
CREATED;VALUE=DATE-TIME:20050213T000000Z
URL:https://www.canetdemar.cat/document.php?id=1351
END:VEVENT
END:VCALENDAR