BEGIN:VCALENDAR
VERSION:2.0
PRODID:-//Plone.org//NONSGML plone.app.event//EN
X-WR-TIMEZONE:Europe/Madrid
BEGIN:VEVENT
SUMMARY:Cinema per Gaudí(r) a la fresca: Rastres de Sàndal
DTSTART;TZID=Europe/Madrid;VALUE=DATE-TIME:20150807T220000
DTEND;TZID=Europe/Madrid;VALUE=DATE-TIME:20150807T230000
DTSTAMP;VALUE=DATE-TIME:20260420T073719Z
UID:71f56c2126eee0406962a01e6d74d7e7
CREATED;VALUE=DATE-TIME:20150807T000000Z
LOCATION:plaça Uniersitat
ORGANIZER:Associació Cultural Plataforma Odèon - ACPO
COMMENT:Preu: inversió en cultura: 3 euros
DESCRIPTION:Nominacions o Premis Gaudí de l'Acadèmia del Cinema Català
URL:https://www.canetdemar.cat/document.php?id=13475
END:VEVENT
END:VCALENDAR