BEGIN:VCALENDAR
VERSION:2.0
PRODID:-//Plone.org//NONSGML plone.app.event//EN
X-WR-TIMEZONE:Europe/Madrid
BEGIN:VEVENT
SUMMARY:Activitats de juliol de les Mares Malabaristes
DTSTART;TZID=Europe/Madrid;VALUE=DATE-TIME:20150701T000000
DTEND;TZID=Europe/Madrid;VALUE=DATE-TIME:20150701T010000
DTSTAMP;VALUE=DATE-TIME:20260423T222137Z
UID:0bfc4fa98afc43ee6ffdba32a3cf9e26
CREATED;VALUE=DATE-TIME:20150701T000000Z
LOCATION:seu Mares Malabaristes - Saüc 35
ORGANIZER:Associació Cultural Mares Malabaristes
URL:https://www.canetdemar.cat/document.php?id=13466
END:VEVENT
END:VCALENDAR