BEGIN:VCALENDAR
VERSION:2.0
PRODID:-//Plone.org//NONSGML plone.app.event//EN
X-WR-TIMEZONE:Europe/Madrid
BEGIN:VEVENT
SUMMARY:Aparador d'espectacles: El llop ferotge
DTSTART;TZID=Europe/Madrid;VALUE=DATE-TIME:20150705T190000
DTEND;TZID=Europe/Madrid;VALUE=DATE-TIME:20150705T200000
DTSTAMP;VALUE=DATE-TIME:20260423T140043Z
UID:57910416fb55c715621c92f4aa74f0b8
CREATED;VALUE=DATE-TIME:20150705T000000Z
LOCATION:lloc a determinar
ORGANIZER:Associació Cultural Plataforma Odèon - ACPO
URL:https://www.canetdemar.cat/document.php?id=13390
END:VEVENT
END:VCALENDAR