BEGIN:VCALENDAR
VERSION:2.0
PRODID:-//Plone.org//NONSGML plone.app.event//EN
X-WR-TIMEZONE:Europe/Madrid
BEGIN:VEVENT
SUMMARY:Torneig d'escacs
DTSTART;TZID=Europe/Madrid;VALUE=DATE-TIME:20150628T180000
DTEND;TZID=Europe/Madrid;VALUE=DATE-TIME:20150628T190000
DTSTAMP;VALUE=DATE-TIME:20260422T183957Z
UID:0418889d0610acf1923ba59c744f50c4
CREATED;VALUE=DATE-TIME:20150628T000000Z
LOCATION:Centre Parroquial
ORGANIZER:Club d'Escacs Canet
URL:https://www.canetdemar.cat/document.php?id=13382
END:VEVENT
END:VCALENDAR