BEGIN:VCALENDAR
VERSION:2.0
PRODID:-//Plone.org//NONSGML plone.app.event//EN
X-WR-TIMEZONE:Europe/Madrid
BEGIN:VEVENT
SUMMARY:Concert solidari amb les millors cançons de sempre per al projecte gota a gota
DTSTART;TZID=Europe/Madrid;VALUE=DATE-TIME:20150607T190000
DTEND;TZID=Europe/Madrid;VALUE=DATE-TIME:20150607T200000
DTSTAMP;VALUE=DATE-TIME:20260422T092951Z
UID:7a94bfb050505afacf7df0b4afe51b92
CREATED;VALUE=DATE-TIME:20150607T000000Z
LOCATION:Centre Parroquial - carrer Eusebi Golart 16
ORGANIZER:A.V. Casc Antic
COMMENT:Preu: anticipada: 10 euros, a taquilla: 12 euros
URL:https://www.canetdemar.cat/document.php?id=13368
END:VEVENT
END:VCALENDAR