BEGIN:VCALENDAR
VERSION:2.0
PRODID:-//Plone.org//NONSGML plone.app.event//EN
X-WR-TIMEZONE:Europe/Madrid
BEGIN:VEVENT
SUMMARY:Trobada d´intercanvi de plaques de cava
DTSTART;TZID=Europe/Madrid;VALUE=DATE-TIME:20150614T100000
DTEND;TZID=Europe/Madrid;VALUE=DATE-TIME:20150614T110000
DTSTAMP;VALUE=DATE-TIME:20260422T164713Z
UID:3d8b4532d3bab64febb059f49f6cfdb9
CREATED;VALUE=DATE-TIME:20150614T000000Z
LOCATION:riera Sant Domènec
ORGANIZER:Àrea de Promoció Econòmica
COMMENT:Durada: de 10.00 a 15.00 hores
URL:https://www.canetdemar.cat/document.php?id=13358
END:VEVENT
END:VCALENDAR