BEGIN:VCALENDAR
VERSION:2.0
PRODID:-//Plone.org//NONSGML plone.app.event//EN
X-WR-TIMEZONE:Europe/Madrid
BEGIN:VEVENT
SUMMARY:Meditació de la Lluna Plena
DTSTART;TZID=Europe/Madrid;VALUE=DATE-TIME:20150602T210000
DTEND;TZID=Europe/Madrid;VALUE=DATE-TIME:20150602T220000
DTSTAMP;VALUE=DATE-TIME:20260424T041323Z
UID:98300b15bda4e09fd389173049d4a34e
CREATED;VALUE=DATE-TIME:20150602T000000Z
CATEGORIES:Mostra,Cursos,Conferència
LOCATION:Platja Canet de mar alçada Bitakora
ORGANIZER:Mares Malabaristes assoc. cult.
COMMENT:Preu: gratuït
DESCRIPTION:Meditació guiada
URL:https://www.canetdemar.cat/document.php?id=13328
END:VEVENT
END:VCALENDAR