BEGIN:VCALENDAR
VERSION:2.0
PRODID:-//Plone.org//NONSGML plone.app.event//EN
X-WR-TIMEZONE:Europe/Madrid
BEGIN:VEVENT
SUMMARY:Taller de mandales
DTSTART;TZID=Europe/Madrid;VALUE=DATE-TIME:20150604T170000
DTEND;TZID=Europe/Madrid;VALUE=DATE-TIME:20150604T180000
DTSTAMP;VALUE=DATE-TIME:20260422T164510Z
UID:7a0afa1873f8267a11dc3c6d0f289c0c
CREATED;VALUE=DATE-TIME:20150604T000000Z
CATEGORIES:Cursos
LOCATION:Seu de Sàlvia (Plaça Manén)
ORGANIZER:Sàlvia
COMMENT:Preu: Gratuït
DESCRIPTION:Per Maribel Garcia
URL:https://www.canetdemar.cat/document.php?id=13327
END:VEVENT
END:VCALENDAR