BEGIN:VCALENDAR
VERSION:2.0
PRODID:-//Plone.org//NONSGML plone.app.event//EN
X-WR-TIMEZONE:Europe/Madrid
BEGIN:VEVENT
SUMMARY:Casal d´estiu Aisia 2015
DTSTART;TZID=Europe/Madrid;VALUE=DATE-TIME:20150630T000000
DTEND;TZID=Europe/Madrid;VALUE=DATE-TIME:20150630T010000
DTSTAMP;VALUE=DATE-TIME:20260423T085813Z
UID:b0f687d467b18d77f3e438b5d4ab3870
CREATED;VALUE=DATE-TIME:20150630T000000Z
LOCATION:Caseta del Bosc i Vil&bull;la Flora
ORGANIZER:Casal d´Estiu Asia
COMMENT:Durada: del 30 de juny i al 21 d'agost de 2015
URL:https://www.canetdemar.cat/document.php?id=13278
END:VEVENT
END:VCALENDAR