BEGIN:VCALENDAR
VERSION:2.0
PRODID:-//Plone.org//NONSGML plone.app.event//EN
X-WR-TIMEZONE:Europe/Madrid
BEGIN:VEVENT
SUMMARY:Pedalada popular
DTSTART;TZID=Europe/Madrid;VALUE=DATE-TIME:20150607T090000
DTEND;TZID=Europe/Madrid;VALUE=DATE-TIME:20150607T100000
DTSTAMP;VALUE=DATE-TIME:20260423T015857Z
UID:f22926426cc0e2ede753ad0644166f05
CREATED;VALUE=DATE-TIME:20150607T000000Z
ORGANIZER:Club ciclista Canet
URL:https://www.canetdemar.cat/document.php?id=13251
END:VEVENT
END:VCALENDAR