BEGIN:VCALENDAR
VERSION:2.0
PRODID:-//Plone.org//NONSGML plone.app.event//EN
X-WR-TIMEZONE:Europe/Madrid
BEGIN:VEVENT
SUMMARY:La Nocturna de Canet 2015
DTSTART;TZID=Europe/Madrid;VALUE=DATE-TIME:20150613T213000
DTEND;TZID=Europe/Madrid;VALUE=DATE-TIME:20150613T223000
DTSTAMP;VALUE=DATE-TIME:20260424T083818Z
UID:ade82907e37cab62f710d53177b88420
CREATED;VALUE=DATE-TIME:20150613T000000Z
CATEGORIES:Esports
LOCATION:Plaça Macià
ORGANIZER:Triesport Canet
COMMENT:Preu: 13 euros fins al 30 de maig i 15 euros fins a acabar inscripcions
DESCRIPTION:8 i 15 km de muntanya - Corrent o caminant
URL:https://www.canetdemar.cat/document.php?id=13247
END:VEVENT
END:VCALENDAR