BEGIN:VCALENDAR
VERSION:2.0
PRODID:-//Plone.org//NONSGML plone.app.event//EN
X-WR-TIMEZONE:Europe/Madrid
BEGIN:VEVENT
SUMMARY:Ruta guiada: Navegants i pescadors
DTSTART;TZID=Europe/Madrid;VALUE=DATE-TIME:20150503T110000
DTEND;TZID=Europe/Madrid;VALUE=DATE-TIME:20150503T120000
DTSTAMP;VALUE=DATE-TIME:20260423T090120Z
UID:2365296ef02fe59bbe494ff4bf1f65a1
CREATED;VALUE=DATE-TIME:20150503T000000Z
ORGANIZER:Casa museu Lluís Domènech i Montaner
COMMENT:Preu: 4 euros
URL:https://www.canetdemar.cat/document.php?id=13214
END:VEVENT
END:VCALENDAR