BEGIN:VCALENDAR
VERSION:2.0
PRODID:-//Plone.org//NONSGML plone.app.event//EN
X-WR-TIMEZONE:Europe/Madrid
BEGIN:VEVENT
SUMMARY:Ruta guiada: Modernisme de Canet i Casa museu
DTSTART;TZID=Europe/Madrid;VALUE=DATE-TIME:20150502T110000
DTEND;TZID=Europe/Madrid;VALUE=DATE-TIME:20150502T120000
DTSTAMP;VALUE=DATE-TIME:20260425T205323Z
UID:4a246aa5d8f5bf0b52d3af848c25d268
CREATED;VALUE=DATE-TIME:20150502T000000Z
ORGANIZER:Casa museu Lluís Domènech i Montaner
COMMENT:Preu: 7 euros
URL:https://www.canetdemar.cat/document.php?id=13213
END:VEVENT
END:VCALENDAR