BEGIN:VCALENDAR
VERSION:2.0
PRODID:-//Plone.org//NONSGML plone.app.event//EN
X-WR-TIMEZONE:Europe/Madrid
BEGIN:VEVENT
SUMMARY:La dieta de los dados
DTSTART;TZID=Europe/Madrid;VALUE=DATE-TIME:20150423T180000
DTEND;TZID=Europe/Madrid;VALUE=DATE-TIME:20150423T190000
DTSTAMP;VALUE=DATE-TIME:20260423T203706Z
UID:7ae4678af2c8a4057193c7b51612bd36
CREATED;VALUE=DATE-TIME:20150423T000000Z
LOCATION:Biblioriera
DESCRIPTION:Montse Alivés signarà exemplars
URL:https://www.canetdemar.cat/document.php?id=13209
END:VEVENT
END:VCALENDAR