BEGIN:VCALENDAR
VERSION:2.0
PRODID:-//Plone.org//NONSGML plone.app.event//EN
X-WR-TIMEZONE:Europe/Madrid
BEGIN:VEVENT
SUMMARY:Xerrada conjunta Policia Local i Mossos
DTSTART;TZID=Europe/Madrid;VALUE=DATE-TIME:20150529T180000
DTEND;TZID=Europe/Madrid;VALUE=DATE-TIME:20150529T190000
DTSTAMP;VALUE=DATE-TIME:20260422T164951Z
UID:0846050708ae14534ab28cc0c4d9a0a3
CREATED;VALUE=DATE-TIME:20150529T000000Z
CATEGORIES:Conferència
LOCATION:Associació de dones, Sàlvia
ORGANIZER:Sàlvia, Associació de dones de Canet de Mar
COMMENT:Preu: Gratuït
DESCRIPTION:Drogues i internet consells pels joves
URL:https://www.canetdemar.cat/document.php?id=13208
END:VEVENT
END:VCALENDAR