BEGIN:VCALENDAR
VERSION:2.0
PRODID:-//Plone.org//NONSGML plone.app.event//EN
X-WR-TIMEZONE:Europe/Madrid
BEGIN:VEVENT
SUMMARY:Concert de presentació del nou disc de "Jordi Bonell, Quartet"
DTSTART;TZID=Europe/Madrid;VALUE=DATE-TIME:20050122T223000
DTEND;TZID=Europe/Madrid;VALUE=DATE-TIME:20050122T233000
DTSTAMP;VALUE=DATE-TIME:20260424T162331Z
UID:a4a26d5ad6d473935671f464e545d0f2
CREATED;VALUE=DATE-TIME:20050122T000000Z
URL:https://www.canetdemar.cat/document.php?id=1318
END:VEVENT
END:VCALENDAR