BEGIN:VCALENDAR
VERSION:2.0
PRODID:-//Plone.org//NONSGML plone.app.event//EN
X-WR-TIMEZONE:Europe/Madrid
BEGIN:VEVENT
SUMMARY:Hora del conte: contes pels més menuts
DTSTART;TZID=Europe/Madrid;VALUE=DATE-TIME:20150523T120000
DTEND;TZID=Europe/Madrid;VALUE=DATE-TIME:20150523T130000
DTSTAMP;VALUE=DATE-TIME:20260425T121702Z
UID:8f1e526e21782b787281c02459a14883
CREATED;VALUE=DATE-TIME:20150523T000000Z
CATEGORIES:Infantils
LOCATION:Biblioteca
URL:https://www.canetdemar.cat/document.php?id=13163
END:VEVENT
END:VCALENDAR