BEGIN:VCALENDAR
VERSION:2.0
PRODID:-//Plone.org//NONSGML plone.app.event//EN
X-WR-TIMEZONE:Europe/Madrid
BEGIN:VEVENT
SUMMARY:Exposició: "La llengua en l'etiquetatge de les grans marques"
DTSTART;TZID=Europe/Madrid;VALUE=DATE-TIME:20050120T200000
DTEND;TZID=Europe/Madrid;VALUE=DATE-TIME:20050120T210000
DTSTAMP;VALUE=DATE-TIME:20260423T185753Z
UID:1433acf726a5ab6a4668a218b0e1b67d
CREATED;VALUE=DATE-TIME:20050120T000000Z
URL:https://www.canetdemar.cat/document.php?id=1315
END:VEVENT
END:VCALENDAR