BEGIN:VCALENDAR
VERSION:2.0
PRODID:-//Plone.org//NONSGML plone.app.event//EN
X-WR-TIMEZONE:Europe/Madrid
BEGIN:VEVENT
SUMMARY:Sopar popular i DJ
DTSTART;TZID=Europe/Madrid;VALUE=DATE-TIME:20150417T210000
DTEND;TZID=Europe/Madrid;VALUE=DATE-TIME:20150417T220000
DTSTAMP;VALUE=DATE-TIME:20260424T054814Z
UID:18d69f2bf4ce2a2d96a54d8f18868a86
CREATED;VALUE=DATE-TIME:20150417T000000Z
CATEGORIES:Festa
LOCATION:Jardins de Vil.la Flora
ORGANIZER:La Faba
COMMENT:Preu: 6 euros Botifarra + mongetes + vi + pa  i barra amb preus populars! entrada gratuïta!!!
DESCRIPTION:Festa d'inaguració de l'entitat Lafaba
URL:https://www.canetdemar.cat/document.php?id=13135
END:VEVENT
END:VCALENDAR