BEGIN:VCALENDAR
VERSION:2.0
PRODID:-//Plone.org//NONSGML plone.app.event//EN
X-WR-TIMEZONE:Europe/Madrid
BEGIN:VEVENT
SUMMARY:Visita de l'autobús d'atenció al consumidor (OPIC)
DTSTART;TZID=Europe/Madrid;VALUE=DATE-TIME:20050119T103000
DTEND;TZID=Europe/Madrid;VALUE=DATE-TIME:20050119T113000
DTSTAMP;VALUE=DATE-TIME:20260424T114042Z
UID:d2399271216d6b0470c1eb739821024b
CREATED;VALUE=DATE-TIME:20050119T000000Z
URL:https://www.canetdemar.cat/document.php?id=1312
END:VEVENT
END:VCALENDAR