BEGIN:VCALENDAR
VERSION:2.0
PRODID:-//Plone.org//NONSGML plone.app.event//EN
X-WR-TIMEZONE:Europe/Madrid
BEGIN:VEVENT
SUMMARY:Descoberta dels rials de Canet: Rial del Salt del Rossí
DTSTART;TZID=Europe/Madrid;VALUE=DATE-TIME:20050116T100000
DTEND;TZID=Europe/Madrid;VALUE=DATE-TIME:20050116T110000
DTSTAMP;VALUE=DATE-TIME:20260424T102428Z
UID:a36fa3dfb7a72ffba051ba6a8c332d04
CREATED;VALUE=DATE-TIME:20050116T000000Z
URL:https://www.canetdemar.cat/document.php?id=1311
END:VEVENT
END:VCALENDAR