BEGIN:VCALENDAR
VERSION:2.0
PRODID:-//Plone.org//NONSGML plone.app.event//EN
X-WR-TIMEZONE:Europe/Madrid
BEGIN:VEVENT
SUMMARY:Taller d'higiene alimentària
DTSTART;TZID=Europe/Madrid;VALUE=DATE-TIME:20150416T093000
DTEND;TZID=Europe/Madrid;VALUE=DATE-TIME:20150416T103000
DTSTAMP;VALUE=DATE-TIME:20260423T220944Z
UID:2655a3dad632ef28caa6b9a6d63e3413
CREATED;VALUE=DATE-TIME:20150416T000000Z
LOCATION:Centre Cívic i Cultural Vil·la Flora
ORGANIZER:Àrea de Promoció Econòmica
COMMENT:Durada: el 16 i 17 d'abril de 9.30 a 13.30 hores
DESCRIPTION:Curs per aturats/ades i treballadors/ores
URL:https://www.canetdemar.cat/document.php?id=13096
END:VEVENT
END:VCALENDAR