BEGIN:VCALENDAR
VERSION:2.0
PRODID:-//Plone.org//NONSGML plone.app.event//EN
X-WR-TIMEZONE:Europe/Madrid
BEGIN:VEVENT
SUMMARY:Fira d'artesans
DTSTART;TZID=Europe/Madrid;VALUE=DATE-TIME:20050115T100000
DTEND;TZID=Europe/Madrid;VALUE=DATE-TIME:20050115T110000
DTSTAMP;VALUE=DATE-TIME:20260425T004528Z
UID:193f711ee2a2824aeb5d0aeddeec51aa
CREATED;VALUE=DATE-TIME:20050115T000000Z
URL:https://www.canetdemar.cat/document.php?id=1309
END:VEVENT
END:VCALENDAR