BEGIN:VCALENDAR
VERSION:2.0
PRODID:-//Plone.org//NONSGML plone.app.event//EN
X-WR-TIMEZONE:Europe/Madrid
BEGIN:VEVENT
SUMMARY:Parlem amb ... l'actriu Carme Contreras
DTSTART;TZID=Europe/Madrid;VALUE=DATE-TIME:20050114T180000
DTEND;TZID=Europe/Madrid;VALUE=DATE-TIME:20050114T190000
DTSTAMP;VALUE=DATE-TIME:20260422T144413Z
UID:280c5b8ab2fcbe6f811ac56ff9830487
CREATED;VALUE=DATE-TIME:20050114T000000Z
URL:https://www.canetdemar.cat/document.php?id=1308
END:VEVENT
END:VCALENDAR