BEGIN:VCALENDAR
VERSION:2.0
PRODID:-//Plone.org//NONSGML plone.app.event//EN
X-WR-TIMEZONE:Europe/Madrid
BEGIN:VEVENT
SUMMARY:Lectures per adults: "Mercè Rodoreda: cartes"
DTSTART;TZID=Europe/Madrid;VALUE=DATE-TIME:20050114T210000
DTEND;TZID=Europe/Madrid;VALUE=DATE-TIME:20050114T220000
DTSTAMP;VALUE=DATE-TIME:20260422T182703Z
UID:61ebd794a470308c36fd500d7e209217
CREATED;VALUE=DATE-TIME:20050114T000000Z
URL:https://www.canetdemar.cat/document.php?id=1307
END:VEVENT
END:VCALENDAR