BEGIN:VCALENDAR
VERSION:2.0
PRODID:-//Plone.org//NONSGML plone.app.event//EN
X-WR-TIMEZONE:Europe/Madrid
BEGIN:VEVENT
SUMMARY:Concert memorial Jaume Dotras
DTSTART;TZID=Europe/Madrid;VALUE=DATE-TIME:20050115T220000
DTEND;TZID=Europe/Madrid;VALUE=DATE-TIME:20050115T230000
DTSTAMP;VALUE=DATE-TIME:20260423T081753Z
UID:191274fd70b16b3c75156789f5d54a49
CREATED;VALUE=DATE-TIME:20050115T000000Z
URL:https://www.canetdemar.cat/document.php?id=1306
END:VEVENT
END:VCALENDAR