BEGIN:VCALENDAR
VERSION:2.0
PRODID:-//Plone.org//NONSGML plone.app.event//EN
X-WR-TIMEZONE:Europe/Madrid
BEGIN:VEVENT
SUMMARY:1r Consell Municipal de Medi Ambient
DTSTART;TZID=Europe/Madrid;VALUE=DATE-TIME:20050113T210000
DTEND;TZID=Europe/Madrid;VALUE=DATE-TIME:20050113T220000
DTSTAMP;VALUE=DATE-TIME:20260422T235206Z
UID:bd46dcccf610ab5e2814302c155a1121
CREATED;VALUE=DATE-TIME:20050113T000000Z
URL:https://www.canetdemar.cat/document.php?id=1305
END:VEVENT
END:VCALENDAR