BEGIN:VCALENDAR
VERSION:2.0
PRODID:-//Plone.org//NONSGML plone.app.event//EN
X-WR-TIMEZONE:Europe/Madrid
BEGIN:VEVENT
SUMMARY:Monogràfic fotografia jove
DTSTART;TZID=Europe/Madrid;VALUE=DATE-TIME:20150413T180000
DTEND;TZID=Europe/Madrid;VALUE=DATE-TIME:20150413T190000
DTSTAMP;VALUE=DATE-TIME:20260423T102946Z
UID:b13158a157ffbdce5d8034fc3906d08b
CREATED;VALUE=DATE-TIME:20150413T000000Z
LOCATION:La Masoveria de Vil·la Flora
ORGANIZER:Àrea de Joventut
COMMENT:Preu: gratuït
Durada: del 13 al 20 d'abril de 18.00 a 20.00 hores
URL:https://www.canetdemar.cat/document.php?id=13045
END:VEVENT
END:VCALENDAR