BEGIN:VCALENDAR
VERSION:2.0
PRODID:-//Plone.org//NONSGML plone.app.event//EN
X-WR-TIMEZONE:Europe/Madrid
BEGIN:VEVENT
SUMMARY:Sessió informativa a la ciutadania. Aprovació inicial del POUM
DTSTART;TZID=Europe/Madrid;VALUE=DATE-TIME:20150327T183000
DTEND;TZID=Europe/Madrid;VALUE=DATE-TIME:20150327T193000
DTSTAMP;VALUE=DATE-TIME:20260423T103716Z
UID:a91e75d99df387c2d778cabe3f0115a8
CREATED;VALUE=DATE-TIME:20150327T000000Z
LOCATION:Aula Magna CRTTT - Escola de Teixits
ORGANIZER:Àrea de Joventut
URL:https://www.canetdemar.cat/document.php?id=13034
END:VEVENT
END:VCALENDAR