BEGIN:VCALENDAR
VERSION:2.0
PRODID:-//Plone.org//NONSGML plone.app.event//EN
X-WR-TIMEZONE:Europe/Madrid
BEGIN:VEVENT
SUMMARY:Exposició: La Mar
DTSTART;TZID=Europe/Madrid;VALUE=DATE-TIME:20150409T000000
DTEND;TZID=Europe/Madrid;VALUE=DATE-TIME:20150409T010000
DTSTAMP;VALUE=DATE-TIME:20260423T172247Z
UID:c8aec8ea6a452beb08495ae30bfeffcf
CREATED;VALUE=DATE-TIME:20150409T000000Z
LOCATION:Sala Cultural Ramon de Capmany
COMMENT:Durada: del 9 al 21 d'abril de 2015
DESCRIPTION:de Josep Aragones Zafra
URL:https://www.canetdemar.cat/document.php?id=13030
END:VEVENT
END:VCALENDAR