BEGIN:VCALENDAR
VERSION:2.0
PRODID:-//Plone.org//NONSGML plone.app.event//EN
X-WR-TIMEZONE:Europe/Madrid
BEGIN:VEVENT
SUMMARY:El documental del mes: The good son
DTSTART;TZID=Europe/Madrid;VALUE=DATE-TIME:20150327T213000
DTEND;TZID=Europe/Madrid;VALUE=DATE-TIME:20150327T223000
DTSTAMP;VALUE=DATE-TIME:20260423T165904Z
UID:cf39afd50426788cda9dd9e53d0420a2
CREATED;VALUE=DATE-TIME:20150327T000000Z
LOCATION:Centre Parroquial
ORGANIZER:Associació Cultural Plataforma Odèon - ACPO
URL:https://www.canetdemar.cat/document.php?id=13028
END:VEVENT
END:VCALENDAR