BEGIN:VCALENDAR
VERSION:2.0
PRODID:-//Plone.org//NONSGML plone.app.event//EN
X-WR-TIMEZONE:Europe/Madrid
BEGIN:VEVENT
SUMMARY:Diumenge de ball
DTSTART;TZID=Europe/Madrid;VALUE=DATE-TIME:20150426T190000
DTEND;TZID=Europe/Madrid;VALUE=DATE-TIME:20150426T200000
DTSTAMP;VALUE=DATE-TIME:20260423T083340Z
UID:d680cc5b83d33e6d93fcb86ec8fd6e00
CREATED;VALUE=DATE-TIME:20150426T000000Z
LOCATION:Envelat de Vil·la Flora
ORGANIZER:Amics del ball
URL:https://www.canetdemar.cat/document.php?id=13010
END:VEVENT
END:VCALENDAR