BEGIN:VCALENDAR
VERSION:2.0
PRODID:-//Plone.org//NONSGML plone.app.event//EN
X-WR-TIMEZONE:Europe/Madrid
BEGIN:VEVENT
SUMMARY:Presentació de la revista Domenechiana número 5
DTSTART;TZID=Europe/Madrid;VALUE=DATE-TIME:20150415T113000
DTEND;TZID=Europe/Madrid;VALUE=DATE-TIME:20150415T123000
DTSTAMP;VALUE=DATE-TIME:20260423T200708Z
UID:1460fb046efc7aade1855ddcc9a67203
CREATED;VALUE=DATE-TIME:20150415T000000Z
LOCATION:Fundació Antoni Tàpies - carrer Aragó 255 - Barcelona
ORGANIZER:Centre d'Estudis Lluís Domènech i Montaner
URL:https://www.canetdemar.cat/document.php?id=12971
END:VEVENT
END:VCALENDAR