BEGIN:VCALENDAR
VERSION:2.0
PRODID:-//Plone.org//NONSGML plone.app.event//EN
X-WR-TIMEZONE:Europe/Madrid
BEGIN:VEVENT
SUMMARY:Hora del conte: Llegenda va, mentida corre... la història dels gegants de Canet
DTSTART;TZID=Europe/Madrid;VALUE=DATE-TIME:20150613T120000
DTEND;TZID=Europe/Madrid;VALUE=DATE-TIME:20150613T130000
DTSTAMP;VALUE=DATE-TIME:20260425T235911Z
UID:f870446cd19f07e48f7c404c5c6f09d3
CREATED;VALUE=DATE-TIME:20150613T000000Z
CATEGORIES:Infantils
LOCATION:Biblioteca
ORGANIZER:Biblioteca P. Gual i Pujadas
URL:https://www.canetdemar.cat/document.php?id=12969
END:VEVENT
END:VCALENDAR