BEGIN:VCALENDAR
VERSION:2.0
PRODID:-//Plone.org//NONSGML plone.app.event//EN
X-WR-TIMEZONE:Europe/Madrid
BEGIN:VEVENT
SUMMARY:Sortida a Barcelona: Planta de valorització energètica de Sant Adrià
DTSTART;TZID=Europe/Madrid;VALUE=DATE-TIME:20150415T084500
DTEND;TZID=Europe/Madrid;VALUE=DATE-TIME:20150415T094500
DTSTAMP;VALUE=DATE-TIME:20260426T014315Z
UID:17f816f08c0723c32d220176dba2b6d2
CREATED;VALUE=DATE-TIME:20150415T000000Z
LOCATION:Estació RENFE
ORGANIZER:Sàlvia
COMMENT:Preu: el transport corre a càrrec de cadascú
URL:https://www.canetdemar.cat/document.php?id=12968
END:VEVENT
END:VCALENDAR