BEGIN:VCALENDAR
VERSION:2.0
PRODID:-//Plone.org//NONSGML plone.app.event//EN
X-WR-TIMEZONE:Europe/Madrid
BEGIN:VEVENT
SUMMARY:Coneix els teus talents ocults i estimula la teva creativitat
DTSTART;TZID=Europe/Madrid;VALUE=DATE-TIME:20150323T100000
DTEND;TZID=Europe/Madrid;VALUE=DATE-TIME:20150323T110000
DTSTAMP;VALUE=DATE-TIME:20260423T000905Z
UID:be521660d487d000ea57e42732a60ea2
CREATED;VALUE=DATE-TIME:20150323T000000Z
LOCATION:Masoveria de Vil·la Flora - riera Gavarra s/n
ORGANIZER:Àrea de Promoció Econòmica i Diputació de Barcelona
COMMENT:Durada: 23 i 25 de març de 10.00 a 13.00 hores
DESCRIPTION:Cicle de seminaris formatius gratuïts per a emprenedors i empreses
URL:https://www.canetdemar.cat/document.php?id=12963
END:VEVENT
END:VCALENDAR