BEGIN:VCALENDAR
VERSION:2.0
PRODID:-//Plone.org//NONSGML plone.app.event//EN
X-WR-TIMEZONE:Europe/Madrid
BEGIN:VEVENT
SUMMARY:Audició de la Big Band de l´Escola de Música
DTSTART;TZID=Europe/Madrid;VALUE=DATE-TIME:20150325T201500
DTEND;TZID=Europe/Madrid;VALUE=DATE-TIME:20150325T211500
DTSTAMP;VALUE=DATE-TIME:20260423T114551Z
UID:407404e088454395bfa3643f9c28d229
CREATED;VALUE=DATE-TIME:20150325T000000Z
LOCATION:auditori Jaume Dotras i Serrabella
ORGANIZER:Escola de Música
URL:https://www.canetdemar.cat/document.php?id=12934
END:VEVENT
END:VCALENDAR